BEGIN:VCALENDAR
VERSION:2.0
PRODID:-//edusiia - ECPv6.15.15//NONSGML v1.0//EN
CALSCALE:GREGORIAN
METHOD:PUBLISH
X-ORIGINAL-URL:https://edusiia.com
X-WR-CALDESC:Veranstaltungen für edusiia
REFRESH-INTERVAL;VALUE=DURATION:PT1H
X-Robots-Tag:noindex
X-PUBLISHED-TTL:PT1H
BEGIN:VTIMEZONE
TZID:Europe/Berlin
BEGIN:DAYLIGHT
TZOFFSETFROM:+0100
TZOFFSETTO:+0200
TZNAME:CEST
DTSTART:20220327T010000
END:DAYLIGHT
BEGIN:STANDARD
TZOFFSETFROM:+0200
TZOFFSETTO:+0100
TZNAME:CET
DTSTART:20221030T010000
END:STANDARD
BEGIN:DAYLIGHT
TZOFFSETFROM:+0100
TZOFFSETTO:+0200
TZNAME:CEST
DTSTART:20230326T010000
END:DAYLIGHT
BEGIN:STANDARD
TZOFFSETFROM:+0200
TZOFFSETTO:+0100
TZNAME:CET
DTSTART:20231029T010000
END:STANDARD
BEGIN:DAYLIGHT
TZOFFSETFROM:+0100
TZOFFSETTO:+0200
TZNAME:CEST
DTSTART:20240331T010000
END:DAYLIGHT
BEGIN:STANDARD
TZOFFSETFROM:+0200
TZOFFSETTO:+0100
TZNAME:CET
DTSTART:20241027T010000
END:STANDARD
END:VTIMEZONE
BEGIN:VEVENT
DTSTART;TZID=Europe/Berlin:20230325T100000
DTEND;TZID=Europe/Berlin:20230325T170000
DTSTAMP:20260425T124432
CREATED:20221205T143847Z
LAST-MODIFIED:20221205T143847Z
UID:10000025-1679738400-1679763600@edusiia.com
SUMMARY:aim-Bildungskonferenz
DESCRIPTION:Welche Fähigkeiten und Kenntnisse benötigen Kinder und Jugendliche\, um ein gelingendes Leben heute und in Zukunft führen zu können? Welche Unterstützung brauchen pädagogische Fachkräfte\, um gute Bedingungen für Kinder und Jugendliche auf ihrem Bildungsweg zu schaffen? \nDiese Fragen stehen auf der Biko 2023 – der Bildungskonferenz der aim – am 25. März 2023 auf dem Bildungscampus in Heilbronn im Fokus und werden mit Gästen aus Wissenschaft und Praxis diskutiert. Mit der Perspektive des „OECD-Lernkompass 2030“\, die OECD-Direktor Andreas Schleicher selbst vorträgt\, werden aktuelle Forschungsergebnisse sowie Umsetzungsbeispiele verschiedenster Kooperationspartner aufgezeigt. \nJetzt für die kostenfreie Teilnahme sowie aktuelle Updates zum Programm unter www.aim-biko.de registrieren!
URL:https://edusiia.com/veranstaltung/aim-bildungskonferenz/
LOCATION:Akademie für Innovative Bildung und Management Heilbronn-Franken gemeinnützige GmbH\, Bildungscampus 7\, Heilbronn\, Baden-Württemberg\, 74076\, Deutschland
CATEGORIES:Konferenzen,Meet-Ups,Podiumsdiskussionen,Workshops
ATTACH;FMTTYPE=image/jpeg:https://edusiia.com/wp-content/uploads/2022/12/MicrosoftTeams-image-1.jpg
ORGANIZER;CN="Akademie f%C3%BCr Innovative Bildung und Management Heilbronn-Franken gemeinn%C3%BCtzige GmbH":MAILTO:gaertner@aim-akademie.org
END:VEVENT
END:VCALENDAR