BEGIN:VCALENDAR
VERSION:2.0
PRODID:-//edusiia - ECPv6.15.15//NONSGML v1.0//EN
CALSCALE:GREGORIAN
METHOD:PUBLISH
X-WR-CALNAME:edusiia
X-ORIGINAL-URL:https://edusiia.com
X-WR-CALDESC:Veranstaltungen für edusiia
REFRESH-INTERVAL;VALUE=DURATION:PT1H
X-Robots-Tag:noindex
X-PUBLISHED-TTL:PT1H
BEGIN:VTIMEZONE
TZID:Europe/Berlin
BEGIN:DAYLIGHT
TZOFFSETFROM:+0100
TZOFFSETTO:+0200
TZNAME:CEST
DTSTART:20220327T010000
END:DAYLIGHT
BEGIN:STANDARD
TZOFFSETFROM:+0200
TZOFFSETTO:+0100
TZNAME:CET
DTSTART:20221030T010000
END:STANDARD
BEGIN:DAYLIGHT
TZOFFSETFROM:+0100
TZOFFSETTO:+0200
TZNAME:CEST
DTSTART:20230326T010000
END:DAYLIGHT
BEGIN:STANDARD
TZOFFSETFROM:+0200
TZOFFSETTO:+0100
TZNAME:CET
DTSTART:20231029T010000
END:STANDARD
BEGIN:DAYLIGHT
TZOFFSETFROM:+0100
TZOFFSETTO:+0200
TZNAME:CEST
DTSTART:20240331T010000
END:DAYLIGHT
BEGIN:STANDARD
TZOFFSETFROM:+0200
TZOFFSETTO:+0100
TZNAME:CET
DTSTART:20241027T010000
END:STANDARD
BEGIN:DAYLIGHT
TZOFFSETFROM:+0100
TZOFFSETTO:+0200
TZNAME:CEST
DTSTART:20250330T010000
END:DAYLIGHT
BEGIN:STANDARD
TZOFFSETFROM:+0200
TZOFFSETTO:+0100
TZNAME:CET
DTSTART:20251026T010000
END:STANDARD
END:VTIMEZONE
BEGIN:VEVENT
DTSTART;VALUE=DATE:20240313
DTEND;VALUE=DATE:20240315
DTSTAMP:20260422T110907
CREATED:20231219T172956Z
LAST-MODIFIED:20231219T172956Z
UID:10000162-1710288000-1710460799@edusiia.com
SUMMARY:Bildungskonferenz 2024
DESCRIPTION:Auf digitaler Mission im Bildungskosmos: Eine Reise durch neue Lernwelten \nDie Digitalisierung der Bildungswelten ist in vollem Gange. Unsere Lernkultur hat sich in den letzten Jahren stark gewandelt und ist digitaler geworden. Wie schaffen wir es\, das digitale Bildungsuniversum so zu formen\, dass es sich stetig weiterentwickeln und wachsen kann? Welche Tools müssen wir Lehrenden und Lernenden an die Hand geben\, damit ihnen die erfolgreiche Navigation durch diesen immer komplexer werdenden Raum gelingt? \nAuf der Bildungskonferenz 2024 am 13. & 14. März diskutieren wir mit zentralen Entscheiderinnen und Entscheidern aus Politik\, Wissenschaft\, Bildungspraxis\, Unternehmen und EdTech-Startups\, wie wir den richtigen Weg in die digitale Zukunft finden. Wir wollen uns genauer anschauen\, welche Leuchtturmprojekte uns schon heute die Richtung weisen und wie wir Jung & Alt bei der selbstbestimmten Navigation durch die digitalen Lernwelten unterstützen und sie gemeinsam gestalten können. Bis bald auf der #bildung24! \nMehr erfahren…
URL:https://edusiia.com/veranstaltung/bildungskonferenz-2024/
LOCATION:online
CATEGORIES:Konferenzen
ATTACH;FMTTYPE=image/png:https://edusiia.com/wp-content/uploads/2023/12/bildungskonferenz-2024.png
ORGANIZER;CN="Bitkom Servicegesellschaft mbH":MAILTO:info@bitkom-service.de
END:VEVENT
BEGIN:VEVENT
DTSTART;VALUE=DATE:20230322
DTEND;VALUE=DATE:20230324
DTSTAMP:20260422T110907
CREATED:20230327T082441Z
LAST-MODIFIED:20230327T082805Z
UID:10000053-1679443200-1679615999@edusiia.com
SUMMARY:Bildungskonferenz 2023
DESCRIPTION:Im Maschinenraum der digitalen Bildungswelt – Welche Hebel transformieren unsere Lernkultur? \nOb in der Schule\, Ausbildung\, Hochschule oder beruflichen Weiterbildung: Entlang der gesamten Bildungskette gilt es\, den Anschluss an eine sich ständig ändernde Arbeitswelt nicht zu verlieren und unsere Lernkultur zu transformieren. Schulen brauchen qualifizierte Lehrkräfte und geeignete pädagogische Konzepte zur Digitalisierung des Unterrichts; Ausbildungsbetriebe wollen auf Berufe der Zukunft vorbereiten; Universitäten entwickeln neue Lehr-\, Lern- und Prüfungsformate. Gesucht werden die richtigen Hebel\, um Jung und Alt im selbstbestimmten Umgang in unserer digitalen Welt zu stärken. \nAuf der Bildungskonferenz 2023 vom 22. & 23. März wollen wir in den Maschinenraum digitaler Bildung eintauchen. Wir diskutieren mit zentralen Entscheiderinnen und Entscheidern aus Politik\, Wissenschaft\, Bildungspraxis\, Unternehmen und EdTech-Startups\, wie innovative Bildungstechnologien unsere Bildungswelt umkrempeln und inklusiver gestalten. Best Practices im Bereich digitaler Bildung stehen genauso im Fokus wie die Frage\, welche Hebel wir ziehen müssen\, um als echte Macherinnen und Macher unsere Lernkultur nachhaltig zu transformieren. Bis bald auf der #bildung23!
URL:https://edusiia.com/veranstaltung/bildungskonferenz-2023/
LOCATION:digital von deinem Lieblingsplatz
CATEGORIES:Konferenzen
ORGANIZER;CN="Bitkom Servicegesellschaft mbH":MAILTO:info@bitkom-service.de
END:VEVENT
END:VCALENDAR