BEGIN:VCALENDAR
VERSION:2.0
PRODID:-//edusiia - ECPv6.15.15//NONSGML v1.0//EN
CALSCALE:GREGORIAN
METHOD:PUBLISH
X-WR-CALNAME:edusiia
X-ORIGINAL-URL:https://edusiia.com
X-WR-CALDESC:Veranstaltungen für edusiia
REFRESH-INTERVAL;VALUE=DURATION:PT1H
X-Robots-Tag:noindex
X-PUBLISHED-TTL:PT1H
BEGIN:VTIMEZONE
TZID:Europe/Berlin
BEGIN:DAYLIGHT
TZOFFSETFROM:+0100
TZOFFSETTO:+0200
TZNAME:CEST
DTSTART:20230326T010000
END:DAYLIGHT
BEGIN:STANDARD
TZOFFSETFROM:+0200
TZOFFSETTO:+0100
TZNAME:CET
DTSTART:20231029T010000
END:STANDARD
BEGIN:DAYLIGHT
TZOFFSETFROM:+0100
TZOFFSETTO:+0200
TZNAME:CEST
DTSTART:20240331T010000
END:DAYLIGHT
BEGIN:STANDARD
TZOFFSETFROM:+0200
TZOFFSETTO:+0100
TZNAME:CET
DTSTART:20241027T010000
END:STANDARD
BEGIN:DAYLIGHT
TZOFFSETFROM:+0100
TZOFFSETTO:+0200
TZNAME:CEST
DTSTART:20250330T010000
END:DAYLIGHT
BEGIN:STANDARD
TZOFFSETFROM:+0200
TZOFFSETTO:+0100
TZNAME:CET
DTSTART:20251026T010000
END:STANDARD
END:VTIMEZONE
BEGIN:VEVENT
DTSTART;VALUE=DATE:20240307
DTEND;VALUE=DATE:20240308
DTSTAMP:20260422T164111
CREATED:20240301T085046Z
LAST-MODIFIED:20240301T085046Z
UID:10000689-1709769600-1709855999@edusiia.com
SUMMARY:FriedrichLab - Gemeinsam Schule besser machen
DESCRIPTION:Sei beim ersten FriedrichLab am 7. März 2024 live dabei und erlebe einen Tag voller Inspirationen mit namhaften Speaker:innen\, Bildungsneudenker:innen und kreativen Köpfen! \nIn unserer sich schnell verändernden Welt\, müssen Schülerinnen und Schüler auf die Herausforderungen und Chancen der modernen Gesellschaft vorbereitet werden. Als Lehrkraft oder Schulleitung stehst du regelmäßig vor neuen Anforderungen\, die Umdenken erfordern und Kraft kosten. \nWir vom Friedrich Verlag sind überzeugt: Gemeinsam schaffen wir mehr! Und Spaß darf es auch machen. \nLass dich inspirieren und lade deine Batterien auf\, wenn wir zusammen neue Wege gehen und den besonderen Aufgaben in Schulen positiv begegnen!
URL:https://edusiia.com/veranstaltung/friedrichlab-gemeinsam-schule-besser-machen/
LOCATION:Design Offices Hannover\, Philipsbornstraße 2\, Hannover\, Niedersachsen\, 30165\, Deutschland
CATEGORIES:Kongress
ATTACH;FMTTYPE=image/jpeg:https://edusiia.com/wp-content/uploads/2024/03/FriedrichLab-Logo.jpg
END:VEVENT
END:VCALENDAR