BEGIN:VCALENDAR
VERSION:2.0
PRODID:-//edusiia - ECPv6.15.15//NONSGML v1.0//EN
CALSCALE:GREGORIAN
METHOD:PUBLISH
X-WR-CALNAME:edusiia
X-ORIGINAL-URL:https://edusiia.com
X-WR-CALDESC:Veranstaltungen für edusiia
REFRESH-INTERVAL;VALUE=DURATION:PT1H
X-Robots-Tag:noindex
X-PUBLISHED-TTL:PT1H
BEGIN:VTIMEZONE
TZID:Europe/Berlin
BEGIN:DAYLIGHT
TZOFFSETFROM:+0100
TZOFFSETTO:+0200
TZNAME:CEST
DTSTART:20250330T010000
END:DAYLIGHT
BEGIN:STANDARD
TZOFFSETFROM:+0200
TZOFFSETTO:+0100
TZNAME:CET
DTSTART:20251026T010000
END:STANDARD
BEGIN:DAYLIGHT
TZOFFSETFROM:+0100
TZOFFSETTO:+0200
TZNAME:CEST
DTSTART:20260329T010000
END:DAYLIGHT
BEGIN:STANDARD
TZOFFSETFROM:+0200
TZOFFSETTO:+0100
TZNAME:CET
DTSTART:20261025T010000
END:STANDARD
BEGIN:DAYLIGHT
TZOFFSETFROM:+0100
TZOFFSETTO:+0200
TZNAME:CEST
DTSTART:20270328T010000
END:DAYLIGHT
BEGIN:STANDARD
TZOFFSETFROM:+0200
TZOFFSETTO:+0100
TZNAME:CET
DTSTART:20271031T010000
END:STANDARD
END:VTIMEZONE
BEGIN:VEVENT
DTSTART;VALUE=DATE:20260424
DTEND;VALUE=DATE:20260426
DTSTAMP:20260422T125550
CREATED:20260121T152027Z
LAST-MODIFIED:20260121T152027Z
UID:10001101-1776988800-1777161599@edusiia.com
SUMMARY:So muss Schule – Fachtagung 2026
DESCRIPTION:Wir wollen weiter mit ALLEN\, die es betrifft – Schüler*innen\, Eltern\, Lehrkräften\, Politiker*innen usw. – über die längst fällige Transformation von Schule nachdenken und nach Wegen suchen\, die Gemeinschaftsschule als Meilenstein auf diesem Weg in Bayern als zusätzliche Schulart zu etablieren. \nWarum Gemeinschaftsschule? Schule muss – das zeigen uns die aktuellen gesellschaftlichen Bedingungen – mehr denn je Kindern Räume eröffnen\, in denen sie sich zu starken\, demokratischen\, am Gemeinwohl orientierten Mitgliedern unserer Gesellschaft entwickeln können. Dazu braucht es eine grundlegend veränderte Lehr- und Lernkultur\, die sich am besten in einer Gemeinschaftsschule realisieren lässt. Wie das in der Praxis umgesetzt und gestaltet werden kann\, soll auf dieser Tagung in Beispielen vorgestellt und diskutiert werden. \nWie Sie dem folgenden Tagungsplan entnehmen können\, werden ausgewiesene Expert:innen und Praktiker:innen einer veränderten Schulpraxis als Ideengeber:innen und Gesprächspartner:innen zur Verfügung stehen. Die genauen Themen der einzelnen Vorträge sowie der endgültige Zeitplan werden noch bekannt gegeben. \nProgramm SO MUSS SCHULEHerunterladen\nWir werden Sie weiterhin über unsere Planungen und die Organisation zur Fachtagung 2026 an dieser Stelle informieren. \nUm die Tagung durchführen zu können\, erheben wir eine Tagungsgebühr\, abhängig von der Dauer und Art der Teilnahme: \n\nFür die Teilnahme an beiden Tagen: 35 €\nFür die Teilnahme an einem der beiden Tage: 25 €\nFür die Teilnahme online: 15 €\n\nIhre Anmeldung wird erst gültig\, wenn die Tagungsgebühr auf dem Konto der Lernwirkstatt Inklusion e.V. eingegangen ist. Bitte überweisen Sie den entsprechenden Betrag auf das Konto\, das Ihnen in der Email zur Bestätigung Ihrer Anmeldung mitgeteilt wird.\nWer online teilnehmen möchte\, erhält den Zoom-Link zwei Tage vor der Veranstaltung per Mail gesondert zugeschickt. \nWenn Sie eine Übernachtungsmöglichkeit suchen: hier können Sie ein Zimmer buchen:\n– Hotel Modi (https://www.hotel-modi.com/)\n– Hotel FreshSuites (https://freshsuites.de/)\nBeide Hotels liegen in der Nähe des Tagungsortes:\nMontessori-Schule Dachau\nGeschwister-Scholl-Str. 2\n85221 Dachau
URL:https://edusiia.com/veranstaltung/so-muss-schule-fachtagung-2026/
LOCATION:Dachau\, Geschwister-Scholl-Str. 2\, Dachau\, 85221
CATEGORIES:Tagung
END:VEVENT
END:VCALENDAR