BEGIN:VCALENDAR
VERSION:2.0
PRODID:-//edusiia - ECPv6.15.15//NONSGML v1.0//EN
CALSCALE:GREGORIAN
METHOD:PUBLISH
X-ORIGINAL-URL:https://edusiia.com
X-WR-CALDESC:Veranstaltungen für edusiia
REFRESH-INTERVAL;VALUE=DURATION:PT1H
X-Robots-Tag:noindex
X-PUBLISHED-TTL:PT1H
BEGIN:VTIMEZONE
TZID:Europe/Berlin
BEGIN:DAYLIGHT
TZOFFSETFROM:+0100
TZOFFSETTO:+0200
TZNAME:CEST
DTSTART:20230326T010000
END:DAYLIGHT
BEGIN:STANDARD
TZOFFSETFROM:+0200
TZOFFSETTO:+0100
TZNAME:CET
DTSTART:20231029T010000
END:STANDARD
BEGIN:DAYLIGHT
TZOFFSETFROM:+0100
TZOFFSETTO:+0200
TZNAME:CEST
DTSTART:20240331T010000
END:DAYLIGHT
BEGIN:STANDARD
TZOFFSETFROM:+0200
TZOFFSETTO:+0100
TZNAME:CET
DTSTART:20241027T010000
END:STANDARD
BEGIN:DAYLIGHT
TZOFFSETFROM:+0100
TZOFFSETTO:+0200
TZNAME:CEST
DTSTART:20250330T010000
END:DAYLIGHT
BEGIN:STANDARD
TZOFFSETFROM:+0200
TZOFFSETTO:+0100
TZNAME:CET
DTSTART:20251026T010000
END:STANDARD
END:VTIMEZONE
BEGIN:VEVENT
DTSTART;TZID=Europe/Berlin:20240210T100000
DTEND;TZID=Europe/Berlin:20240211T160000
DTSTAMP:20260421T115123
CREATED:20240104T162651Z
LAST-MODIFIED:20240104T162927Z
UID:10000198-1707559200-1707667200@edusiia.com
SUMMARY:Stark Starten - Bildung gesund gestalten
DESCRIPTION:Der Arbeitsplatz der schulischen Lehrkraft stellt insb. für Berufseinsteigende aufgrund seiner Komplexität hohe Anforderungen an die physische und psychische Leistungsfähigkeit. Neben den fachlichen und methodischen Kompetenzen sind eine ausgeprägte Kommunikations-\, Antizipations- und Konfliktfähigkeit sowie sozial-emotionale Fertigkeiten grundlegend für die Tätigkeiten im Berufsfeld Schule. Die Motivation der Berufseinsteigenden und ihre Freude am Beruf sollen erhalten sowie ihre Resilienz gestärkt werden. \nDas Programm beinhaltet folgende Themenfelder:\nPädagogische Inhalte\nmultiprofessionelle Teamarbeit\, Kooperativer Unterricht\, Classroom-Management\, Umgang mit Störungen und Konflikten\, Schulrecht\, Krisen & Notfälle\, Zusammenarbeit mit Eltern\, … \nPsychologische Inhalte\nStressbewältigung\, Erholung\, Distanzierung\, Resilienz\, gedankliche Flexibilität\, innere Antreiber\, Selbststeuerung\, Emotionsregulierung\, Handlungsflexibilität\, … \nErgänzt werden diese Inhalte durch Kollegiale Beratung sowie Stimmtraining. \nAm 10. und 11.02.2024 findet die Auftaktveranstaltung zu einer Reihe mit mehreren Veranstaltungen statt. Mehr erfahren…
URL:https://edusiia.com/veranstaltung/stark-starten-bildung-gesund-gestalten/
LOCATION:NLQ – Niedersächsisches Landesinstitut für schulische Qualitätsentwicklung\, Keßlerstraße 52\, Hilesheim\, Niedersachsen\, 31134\, Deutschland
CATEGORIES:Fortbildungen
ATTACH;FMTTYPE=image/png:https://edusiia.com/wp-content/uploads/2024/01/nlq-vedab.png
END:VEVENT
END:VCALENDAR