BEGIN:VCALENDAR
VERSION:2.0
PRODID:-//edusiia - ECPv6.15.15//NONSGML v1.0//EN
CALSCALE:GREGORIAN
METHOD:PUBLISH
X-ORIGINAL-URL:https://edusiia.com
X-WR-CALDESC:Veranstaltungen für edusiia
REFRESH-INTERVAL;VALUE=DURATION:PT1H
X-Robots-Tag:noindex
X-PUBLISHED-TTL:PT1H
BEGIN:VTIMEZONE
TZID:Europe/Berlin
BEGIN:DAYLIGHT
TZOFFSETFROM:+0100
TZOFFSETTO:+0200
TZNAME:CEST
DTSTART:20240331T010000
END:DAYLIGHT
BEGIN:STANDARD
TZOFFSETFROM:+0200
TZOFFSETTO:+0100
TZNAME:CET
DTSTART:20241027T010000
END:STANDARD
BEGIN:DAYLIGHT
TZOFFSETFROM:+0100
TZOFFSETTO:+0200
TZNAME:CEST
DTSTART:20250330T010000
END:DAYLIGHT
BEGIN:STANDARD
TZOFFSETFROM:+0200
TZOFFSETTO:+0100
TZNAME:CET
DTSTART:20251026T010000
END:STANDARD
BEGIN:DAYLIGHT
TZOFFSETFROM:+0100
TZOFFSETTO:+0200
TZNAME:CEST
DTSTART:20260329T010000
END:DAYLIGHT
BEGIN:STANDARD
TZOFFSETFROM:+0200
TZOFFSETTO:+0100
TZNAME:CET
DTSTART:20261025T010000
END:STANDARD
END:VTIMEZONE
BEGIN:VEVENT
DTSTART;TZID=Europe/Berlin:20250604T140000
DTEND;TZID=Europe/Berlin:20250604T170000
DTSTAMP:20260421T102404
CREATED:20250526T112345Z
LAST-MODIFIED:20250526T112345Z
UID:10001007-1749045600-1749056400@edusiia.com
SUMMARY:Dialogforum Startchancen mit Schultransform
DESCRIPTION:Schulentwicklung gemeinsam gestalten! Beim Dialogforum Schultransform am 4. Juni 2025 – von 14 bis 17 Uhr online – tauschen wir uns praxisnah über datenbasierte und partizipative Schulentwicklung aus. Lernen Sie von Schulen\, die bereits neue Wege gehen\, erhalten Sie wissenschaftliche Impulse und diskutieren Sie mit uns zukunftsweisende Fragen – von KI-gestützten Prüfungsformaten bis zur Gestaltung innovativer Lernräume.
URL:https://edusiia.com/veranstaltung/dialogforum-startchancen-mit-schultransform/
CATEGORIES:Meet-Ups
ATTACH;FMTTYPE=image/jpeg:https://edusiia.com/wp-content/uploads/2025/05/Dialogforum-Schultransform-2025.jpg
END:VEVENT
END:VCALENDAR