BEGIN:VCALENDAR
VERSION:2.0
PRODID:-//edusiia - ECPv6.15.15//NONSGML v1.0//EN
CALSCALE:GREGORIAN
METHOD:PUBLISH
X-WR-CALNAME:edusiia
X-ORIGINAL-URL:https://edusiia.com
X-WR-CALDESC:Veranstaltungen für edusiia
REFRESH-INTERVAL;VALUE=DURATION:PT1H
X-Robots-Tag:noindex
X-PUBLISHED-TTL:PT1H
BEGIN:VTIMEZONE
TZID:Europe/Berlin
BEGIN:DAYLIGHT
TZOFFSETFROM:+0100
TZOFFSETTO:+0200
TZNAME:CEST
DTSTART:20230326T010000
END:DAYLIGHT
BEGIN:STANDARD
TZOFFSETFROM:+0200
TZOFFSETTO:+0100
TZNAME:CET
DTSTART:20231029T010000
END:STANDARD
BEGIN:DAYLIGHT
TZOFFSETFROM:+0100
TZOFFSETTO:+0200
TZNAME:CEST
DTSTART:20240331T010000
END:DAYLIGHT
BEGIN:STANDARD
TZOFFSETFROM:+0200
TZOFFSETTO:+0100
TZNAME:CET
DTSTART:20241027T010000
END:STANDARD
BEGIN:DAYLIGHT
TZOFFSETFROM:+0100
TZOFFSETTO:+0200
TZNAME:CEST
DTSTART:20250330T010000
END:DAYLIGHT
BEGIN:STANDARD
TZOFFSETFROM:+0200
TZOFFSETTO:+0100
TZNAME:CET
DTSTART:20251026T010000
END:STANDARD
END:VTIMEZONE
BEGIN:VEVENT
DTSTART;TZID=Europe/Berlin:20240316T083000
DTEND;TZID=Europe/Berlin:20240316T150000
DTSTAMP:20260422T162251
CREATED:20240310T162541Z
LAST-MODIFIED:20240310T162541Z
UID:10000697-1710577800-1710601200@edusiia.com
SUMMARY:JuLe-Tagung Berlin 2024
DESCRIPTION:Motto 2024: RESPEKT vor unserem Planeten und seinen Bewohnern\nKonzept\nZielgruppe der Tagung sind insbesondere Junglehrerinnen und Junglehrer in den ersten Berufsjahren\, Referendarinnen und Referendare sowie weitere interessierte Lehrpersonen. Die Teilnehmenden erhalten Anregungen\, Einblicke und Unterstützung für einen zeitgemäßen und adressatengerechten Unterricht. Den Veranstalter leitet das Bestreben\, durch praxiserprobte sowie wissenschaftlich fundierte Fortbildungsangebote den fachlichen Dialog und die Professionalisierung von Lehrerinnen und Lehrer zu unterstützen. Der MNU (www.mnu.de) tritt als MINT-Lehrerverband für Qualität und Fortschritt in den mathematischen und naturwissenschaftlichen Schulfächern ein. Die JuLe-Tagungen in Berlin haben bereits eine mehrjährige Tradition und locken ca. 280 Teilnehmende an einem Samstag an. \nDie JuLe-Tagung 2024 wird 16. März 2024 als Präsenzveranstaltung stattfinden.
URL:https://edusiia.com/veranstaltung/jule-tagung-berlin-2024/
LOCATION:Primo-Levi-Gymnasium\, Woelckpromenade 38\, Berlin\, 13086\, Deutschland
CATEGORIES:Workshops
ATTACH;FMTTYPE=image/png:https://edusiia.com/wp-content/uploads/2024/03/Mint-JuLe-Tagung-Berlin-2024.png
END:VEVENT
END:VCALENDAR