BEGIN:VCALENDAR
VERSION:2.0
PRODID:-//edusiia - ECPv6.15.15//NONSGML v1.0//EN
CALSCALE:GREGORIAN
METHOD:PUBLISH
X-WR-CALNAME:edusiia
X-ORIGINAL-URL:https://edusiia.com
X-WR-CALDESC:Veranstaltungen für edusiia
REFRESH-INTERVAL;VALUE=DURATION:PT1H
X-Robots-Tag:noindex
X-PUBLISHED-TTL:PT1H
BEGIN:VTIMEZONE
TZID:Europe/Berlin
BEGIN:DAYLIGHT
TZOFFSETFROM:+0100
TZOFFSETTO:+0200
TZNAME:CEST
DTSTART:20210328T010000
END:DAYLIGHT
BEGIN:STANDARD
TZOFFSETFROM:+0200
TZOFFSETTO:+0100
TZNAME:CET
DTSTART:20211031T010000
END:STANDARD
BEGIN:DAYLIGHT
TZOFFSETFROM:+0100
TZOFFSETTO:+0200
TZNAME:CEST
DTSTART:20220327T010000
END:DAYLIGHT
BEGIN:STANDARD
TZOFFSETFROM:+0200
TZOFFSETTO:+0100
TZNAME:CET
DTSTART:20221030T010000
END:STANDARD
BEGIN:DAYLIGHT
TZOFFSETFROM:+0100
TZOFFSETTO:+0200
TZNAME:CEST
DTSTART:20230326T010000
END:DAYLIGHT
BEGIN:STANDARD
TZOFFSETFROM:+0200
TZOFFSETTO:+0100
TZNAME:CET
DTSTART:20231029T010000
END:STANDARD
BEGIN:DAYLIGHT
TZOFFSETFROM:+0100
TZOFFSETTO:+0200
TZNAME:CEST
DTSTART:20240331T010000
END:DAYLIGHT
BEGIN:STANDARD
TZOFFSETFROM:+0200
TZOFFSETTO:+0100
TZNAME:CET
DTSTART:20241027T010000
END:STANDARD
END:VTIMEZONE
BEGIN:VEVENT
DTSTART;TZID=Europe/Berlin:20230403T100000
DTEND;TZID=Europe/Berlin:20230403T110000
DTSTAMP:20260422T125408
CREATED:20230330T105107Z
LAST-MODIFIED:20230330T105107Z
UID:10000056-1680516000-1680519600@edusiia.com
SUMMARY:KI-Vortrag flashte KMK - Prof. Dr. Doris Weßels über ChatGPT und was es für die Bildung bedeutet
DESCRIPTION:Die Sitzung der Kultusminister vor zwei Wochen hatte ein Highlight. Die bekannte KI-Professorin aus Kiel\, Doris Weßels\, zeigte den Schulministerinnen und -ministern eine Stunde lang\, was GPT-4\, die Künstliche Intelligenz to go\, alles drauf hat. Sie besteht Abiturprüfungen und ist in der Lage\, blitzschnell Texte zu erstellen – auch Programmiercode. Weßels gelang\, was noch wenigen vorher gelungen ist: Die Ständige Konferenz der Kultusminister\, gegründet im Jahr 1947\, war geflasht.   \nErst wird Prof. Dr. Doris Weßels ihre Analysen und Beispiele vorstellen\, die die KMK aufgerüttelt haben. Dann spricht sie mit Bildung.Table-Redakteur Christian Füller über die Folgen für Politik und Bildung. Weßels leitet das Virtuelle Kompetenzzentrum Schreiben\, Lehren und Lernen mit KI – Tools für Bildung und Wissenschaft an der FH Kiel.  \n  \n 
URL:https://edusiia.com/veranstaltung/ki-vortrag-flashte-kmk-prof-dr-doris-wessels-ueber-chatgpt-und-was-es-fuer-die-bildung-bedeutet/
LOCATION:Zoom
CATEGORIES:Webinare
ATTACH;FMTTYPE=image/png:https://edusiia.com/wp-content/uploads/2023/03/Grosser-Banner-16.png
ORGANIZER;CN="Table Media":MAILTO:live@table.media
END:VEVENT
BEGIN:VEVENT
DTSTART;TZID=Europe/Berlin:20230313T123000
DTEND;TZID=Europe/Berlin:20230313T133000
DTSTAMP:20260422T125408
CREATED:20230223T090304Z
LAST-MODIFIED:20230228T131340Z
UID:10000038-1678710600-1678714200@edusiia.com
SUMMARY:Autonomie statt Bürokratie – wie kann Bildungssteuerung gelingen? 
DESCRIPTION:Während die Leistungen vieler Schülerinnen und Schüler in Deutschland absacken\, sucht die Politik nach Antworten – verharrt dabei jedoch in alten Routinen: In der Bildungssteuerung setzen die Ministerien weiter auf das „Top-down“-Prinzip – streng entlang der Hierarchien. Gleichzeitig beklagen sich immer mehr Schulleiter über erdrückende Vorschriften und mangelnden Gestaltungsspielraum. Ist jetzt der richtige Moment für eine radikal neue Steuerungslogik? Maximale Freiheit für die Schulen – über ihr Geld\, ihr Personal und das Lernen im 21. Jahrhundert. Darüber wollen wir diskutieren! \nNach eröffnenden Impulsen von Dr. Ekkehard Winter (Geschäftsführer\, Deutsche Telekom Stiftung) diskutiert Bildung.Table-Redaktionsleiter Moritz Baumann mit Cordula Heckmann (Leiterin\, Rütli-Campus Berlin)\, Dr. Thomas de Maizière (Vorsitzender\, Deutsche Telekom Stiftung) und Udo Michallik (Generalsekretär\, KMK) über notwendige Schritte und Reformen in den Schulen. \nGerne können Sie schon vor der Veranstaltung bei unserem Veranstaltungspartner edusiia zum Veranstaltungsthema diskutieren. edusiia ist das soziale Netzwerk für Bildung. Die digitale Plattform verbindet Menschen und Organisationen aus allen Bildungsbereichen. Hier geht es Anmeldung für die edusiia Plattform: https://go.table.media/edusiia \nMit der Anmeldung erhalten Sie für vier Wochen kostenfrei das Bildung.Table Professional Briefing zum Probelesen. Weitere Informationen: https://table.media/datenschutzerklaerung/
URL:https://edusiia.com/veranstaltung/autonomie-statt-buerokratie-wie-kann-bildungssteuerung-gelingen/
LOCATION:Zoom
CATEGORIES:Webinare
ATTACH;FMTTYPE=image/png:https://edusiia.com/wp-content/uploads/2023/02/Grosser-Banner-6.png
ORGANIZER;CN="Table Media":MAILTO:live@table.media
END:VEVENT
BEGIN:VEVENT
DTSTART;TZID=Europe/Berlin:20230223T120000
DTEND;TZID=Europe/Berlin:20230223T130000
DTSTAMP:20260422T125408
CREATED:20230220T094006Z
LAST-MODIFIED:20230220T094006Z
UID:10000034-1677153600-1677157200@edusiia.com
SUMMARY:Ausbildung reloaded – wie Hamburg Studium und Ausbildung kombiniert
DESCRIPTION:Die Berufsbildung ist in der Krise: Viele Ausbildungsstellen bleiben unbesetzt\, überall fehlen Fachkräfte. In Hamburg wurde ein neues Modell eingeführt\, das Studium und Ausbildung miteinander verzahnt. In enger Kooperation mit Berufsschulen und Unternehmen ermöglicht die Berufliche Hochschule Hamburg zwei Abschlüsse in nur vier Jahren: Ausbildungsabschluss und Bachelor. \nKann dieses Modell dem aktuellen Fachkräftemangel entgegnen? Diese und andere Fragen diskutieren Prof. Dr. Insa Sjurts (Berufliche Hochschule Hamburg)\, Prof. Bernd Fitzenberger (Institut für Arbeitsmarkt- und Berufsforschung) mit Anna Parrisius vom Bildung.Table.
URL:https://edusiia.com/veranstaltung/ausbildung-reloaded-wie-hamburg-studium-und-ausbildung-kombiniert/
LOCATION:Zoom
CATEGORIES:Podiumsdiskussionen
ATTACH;FMTTYPE=image/png:https://edusiia.com/wp-content/uploads/2023/02/LinkedIn-Table.Live-Talk-Briefing-48.png
ORGANIZER;CN="Table Media":MAILTO:live@table.media
END:VEVENT
BEGIN:VEVENT
DTSTART;TZID=Europe/Berlin:20221214T130000
DTEND;TZID=Europe/Berlin:20221214T140000
DTSTAMP:20260422T125408
CREATED:20221206T150049Z
LAST-MODIFIED:20221206T150049Z
UID:10000026-1671022800-1671026400@edusiia.com
SUMMARY:Der bildungspolitische Jahresrückblick mit KMK-Präsidentin Karin Prien
DESCRIPTION:Wo muss die Bildungsrepublik umsteuern? Nach einem turbulenten Jahr für die Bildungspolitik wollen wir gemeinsam mit KMK-Präsidentin und Bildungsministerin von Schleswig-Holstein\, Karin Prien\, Bilanz ziehen und auf ihre einjährige KMK-Präsidentschaft zurückblicken. Was hat sie erreicht\, wo knirscht es weiter? \nIm zweiten Part diskutieren Karin Prien und der Bildungssoziologe und Bestseller-Autor Prof. Aladin El-Mafaalani über die alarmierenden Ergebnisse des IQB-Bildungstrends und die Versäumnisse der deutschen Bildungspolitik.
URL:https://edusiia.com/veranstaltung/der-bildungspolitische-jahresrueckblick-mit-kmk-praesidentin-karin-prien/
LOCATION:digital von deinem Lieblingsplatz
CATEGORIES:Podiumsdiskussionen,Webinare
ATTACH;FMTTYPE=image/png:https://edusiia.com/wp-content/uploads/2022/12/MicrosoftTeams-image-15.png
ORGANIZER;CN="Table Media":MAILTO:live@table.media
END:VEVENT
END:VCALENDAR