BEGIN:VCALENDAR
VERSION:2.0
PRODID:-//edusiia - ECPv6.15.15//NONSGML v1.0//EN
CALSCALE:GREGORIAN
METHOD:PUBLISH
X-WR-CALNAME:edusiia
X-ORIGINAL-URL:https://edusiia.com
X-WR-CALDESC:Veranstaltungen für edusiia
REFRESH-INTERVAL;VALUE=DURATION:PT1H
X-Robots-Tag:noindex
X-PUBLISHED-TTL:PT1H
BEGIN:VTIMEZONE
TZID:Europe/Berlin
BEGIN:DAYLIGHT
TZOFFSETFROM:+0100
TZOFFSETTO:+0200
TZNAME:CEST
DTSTART:20230326T010000
END:DAYLIGHT
BEGIN:STANDARD
TZOFFSETFROM:+0200
TZOFFSETTO:+0100
TZNAME:CET
DTSTART:20231029T010000
END:STANDARD
BEGIN:DAYLIGHT
TZOFFSETFROM:+0100
TZOFFSETTO:+0200
TZNAME:CEST
DTSTART:20240331T010000
END:DAYLIGHT
BEGIN:STANDARD
TZOFFSETFROM:+0200
TZOFFSETTO:+0100
TZNAME:CET
DTSTART:20241027T010000
END:STANDARD
BEGIN:DAYLIGHT
TZOFFSETFROM:+0100
TZOFFSETTO:+0200
TZNAME:CEST
DTSTART:20250330T010000
END:DAYLIGHT
BEGIN:STANDARD
TZOFFSETFROM:+0200
TZOFFSETTO:+0100
TZNAME:CET
DTSTART:20251026T010000
END:STANDARD
END:VTIMEZONE
BEGIN:VEVENT
DTSTART;TZID=Europe/Berlin:20241216T140000
DTEND;TZID=Europe/Berlin:20241216T170000
DTSTAMP:20260423T131726
CREATED:20241203T114716Z
LAST-MODIFIED:20241203T114716Z
UID:10000900-1734357600-1734368400@edusiia.com
SUMMARY:Fortbildungsreihe BNE | Service Learning als Methode einer Bildung für nachhaltige Entwicklung in der Hochschule
DESCRIPTION:Service Learning wird oft übersetzt mit „Lernen durch Engagement“. Im hochschulischen Kontext der Bildung für nachhaltige Entwicklung (BNE) ermöglicht Service Learning\, Studierende aktiv in kompakte Nachhaltigkeitsprojekte einzubinden\, die sie in Kooperation mit Praxispartnerinstitutionen innerhalb eines Semesters realisieren. Diese Projekte sind in einen theoretischen Rahmen eingebettet\, der – neben der praktischen Umsetzung – klassische Seminarinhalte integriert und so die Theorie-Praxis-Verbindung fördert. \nZiel des Workshops ist es\, die Methode Service Learning kennenzulernen und den Teilnehmenden eine klare Vorstellung davon zu vermitteln\, wie ein solcher Seminarplan aussehen kann und welche Schritte zur Umsetzung erforderlich sind. Wir bringen unsere Erfahrungen zu typischen Herausforderungen und Erfolgsfaktoren aus der eigenen Lehrpraxis mit\, und so erhalten die Teilnehmenden Einblicke in erfolgreich umgesetzte studentische Projekte – und auch in ein paar Schwierigkeiten. Mit einem Arbeitsblatt als Grundlage können erste Schritte zur Entwicklung eigener Service-Learning-Konzepte skizziert werden und wir diskutieren\, wie sich das Format auf spezifische Lehrsituationen übertragen lassen kann. Neben der fachlichen Diskussion wird es auch Raum für Erfahrungsaustausch und Peer Learning geben. \nDieser Workshop richtet sich an Lehrende\, die in ihrer Lehre praxisnahe und nachhaltigkeitsorientierte Projekte verankern möchten und dafür innovative didaktische Ansätze kennenlernen möchten. \nReferentin und Referent: \nJuliana ist wissenschaftliche Mitarbeiterin an der Otto-von-Guericke Universität Magdeburg am Lehrstuhl für Politikwissenschaft mit dem Schwerpunkt Nachhaltige Entwicklung. Sie koordiniert das Nachhaltigkeitszertifikat der Uni und lehrt in verschiedenen Formaten\, mitunter auch interdisziplinär. Ihr Forschungsschwerpunkt liegt auf der Schnittstelle von Wissenschaft und Praxis\, und sie untersucht\, wie Service Learning als hochschulische BNE-Methode gelingen kann. \nBror forscht am Lehrstuhl für Nachhaltiges Management der Universität Bremen zur systemischen Transformation von Hochschulen sowie zum Potenzial von Peer Learning-Formaten für Lehrende. Als Geschäftsführer der Deutschen Gesellschaft für Nachhaltigkeit an Hochschulen e.V. (DG HochN) koordiniert er das bundesweite Netzwerk des Vereins und tauscht sich regelmäßig mit weiteren nationalen und internationalen Netzwerken zu BNE an Hochschulen aus. \nOrt und Zeit \nUniversität Vechta\, Raum A13e \nMontag\, 16.12.2024\, 14 – 17 Uhr \nAnmeldung \nSekretariat der Erziehungswissenschaften\, Karin Bocklage\, sekretariat.erziehungswissenschaften@uni-vechta.de
URL:https://edusiia.com/veranstaltung/fortbildungsreihe-bne-service-learning-als-methode-einer-bildung-fuer-nachhaltige-entwicklung-in-der-hochschule/
LOCATION:Universität Vechta
CATEGORIES:Workshops
ATTACH;FMTTYPE=image/avif:https://edusiia.com/wp-content/uploads/2024/12/Workshop-Sevice-Learning-Universitaet-Vechta.avif
END:VEVENT
END:VCALENDAR