BEGIN:VCALENDAR
VERSION:2.0
PRODID:-//edusiia - ECPv6.15.15//NONSGML v1.0//EN
CALSCALE:GREGORIAN
METHOD:PUBLISH
X-ORIGINAL-URL:https://edusiia.com
X-WR-CALDESC:Veranstaltungen für edusiia
REFRESH-INTERVAL;VALUE=DURATION:PT1H
X-Robots-Tag:noindex
X-PUBLISHED-TTL:PT1H
BEGIN:VTIMEZONE
TZID:Europe/Berlin
BEGIN:DAYLIGHT
TZOFFSETFROM:+0100
TZOFFSETTO:+0200
TZNAME:CEST
DTSTART:20250330T010000
END:DAYLIGHT
BEGIN:STANDARD
TZOFFSETFROM:+0200
TZOFFSETTO:+0100
TZNAME:CET
DTSTART:20251026T010000
END:STANDARD
BEGIN:DAYLIGHT
TZOFFSETFROM:+0100
TZOFFSETTO:+0200
TZNAME:CEST
DTSTART:20260329T010000
END:DAYLIGHT
BEGIN:STANDARD
TZOFFSETFROM:+0200
TZOFFSETTO:+0100
TZNAME:CET
DTSTART:20261025T010000
END:STANDARD
BEGIN:DAYLIGHT
TZOFFSETFROM:+0100
TZOFFSETTO:+0200
TZNAME:CEST
DTSTART:20270328T010000
END:DAYLIGHT
BEGIN:STANDARD
TZOFFSETFROM:+0200
TZOFFSETTO:+0100
TZNAME:CET
DTSTART:20271031T010000
END:STANDARD
END:VTIMEZONE
BEGIN:VEVENT
DTSTART;TZID=Europe/Berlin:20260223T170000
DTEND;TZID=Europe/Berlin:20260223T193000
DTSTAMP:20260421T132808
CREATED:20260122T135342Z
LAST-MODIFIED:20260122T135342Z
UID:10001106-1771866000-1771875000@edusiia.com
SUMMARY:Wie erzählen wir Migration & Vielfalt? Impulse für die Zukunft der Bildung
DESCRIPTION:Vernetzung und Austausch zu Migration\, Vielfalt und Bildung: Welche Narrative prägen junge Menschen – und wie können wir sie erweitern? \n\n\n\n\nGerade in Zeiten\, in denen öffentliche Debatten über Migration\, Vielfalt und das sogenannte „Stadtbild“ zunehmend vereinfacht geführt werden und komplexe Realitäten überlagern\, stellt sich die Frage: Welche Narrative prägen eigentlich das Lernen junger Menschen – und welche Perspektiven in der Bildung fehlen bislang? \nDer Abend beginnt mit einem kurzen Ankommen und einer gemeinsamen Einführung\, gefolgt von einem Podiumsgespräch mit Vertreter*innen von Migration Matters\, Deschoolonize und dem Education Innovation Lab\, moderiert von Yolanda Rother (The Impact Company). Anschließend gibt es Raum für Fragen und Impulse. Der Abend klingt mit offenem Networking und der Möglichkeit zu Gesprächen und neuen Kontakten aus. Für Getränke und Snacks ist gesorgt. \nDie Veranstaltung richtet sich an Personen\, die in den Bereichen Bildung (formale und nicht-formale) sowie Migration und Vielfalt oder an deren Schnittstellen tätig sind. Der Veranstaltungsort ist leider nicht barrierefrei zugänglich; die Diskussion wird nicht aufgezeichnet oder gefilmt. \nDiese Veranstaltung wird durchgeführt im Rahmen des Projekts „Migration Matters in Deutschland 2.0“ mit der Unterstützung des Deutsche Postcode Lotteries (DPL). \nMigration Matters e.V. unterstützt Lehrkräfte\, Schulen und weitere Bildungsakteur*innen dabei\, Migration und Vielfalt differenziert\, nuanciert und evidenzbasiert zu vermitteln. Mit diesem Event möchten wir zu einem offenen Austausch einladen: darüber\, welche Narrative den Bildungsbereich prägen\, welche Stimmen bislang zu wenig Gehör finden und wie eine zukunftsorientierte\, inklusive Migrationsbildung aussehen kann. \nAnmeldung
URL:https://edusiia.com/veranstaltung/wie-erzaehlen-wir-migration-vielfalt-impulse-fuer-die-zukunft-der-bildung/
LOCATION:Berlin
CATEGORIES:Podiumsdiskussionen
END:VEVENT
END:VCALENDAR