BEGIN:VCALENDAR
VERSION:2.0
PRODID:-//edusiia - ECPv6.15.15//NONSGML v1.0//EN
CALSCALE:GREGORIAN
METHOD:PUBLISH
X-ORIGINAL-URL:https://edusiia.com
X-WR-CALDESC:Veranstaltungen für edusiia
REFRESH-INTERVAL;VALUE=DURATION:PT1H
X-Robots-Tag:noindex
X-PUBLISHED-TTL:PT1H
BEGIN:VTIMEZONE
TZID:Europe/Berlin
BEGIN:DAYLIGHT
TZOFFSETFROM:+0100
TZOFFSETTO:+0200
TZNAME:CEST
DTSTART:20220327T010000
END:DAYLIGHT
BEGIN:STANDARD
TZOFFSETFROM:+0200
TZOFFSETTO:+0100
TZNAME:CET
DTSTART:20221030T010000
END:STANDARD
BEGIN:DAYLIGHT
TZOFFSETFROM:+0100
TZOFFSETTO:+0200
TZNAME:CEST
DTSTART:20230326T010000
END:DAYLIGHT
BEGIN:STANDARD
TZOFFSETFROM:+0200
TZOFFSETTO:+0100
TZNAME:CET
DTSTART:20231029T010000
END:STANDARD
BEGIN:DAYLIGHT
TZOFFSETFROM:+0100
TZOFFSETTO:+0200
TZNAME:CEST
DTSTART:20240331T010000
END:DAYLIGHT
BEGIN:STANDARD
TZOFFSETFROM:+0200
TZOFFSETTO:+0100
TZNAME:CET
DTSTART:20241027T010000
END:STANDARD
END:VTIMEZONE
BEGIN:VEVENT
DTSTART;TZID=Europe/Berlin:20231214T170000
DTEND;TZID=Europe/Berlin:20231214T170000
DTSTAMP:20260423T105613
CREATED:20231129T151759Z
LAST-MODIFIED:20231129T151759Z
UID:10000119-1702573200-1702573200@edusiia.com
SUMMARY:Bildung auf den Punkt
DESCRIPTION:So steht es um die Unterrichtsversorgung: Wo sind all die Lehrer hin? \nEin Thema treibt die Schüler\, Eltern und Lehrer schon lange um: Es fehlen Lehrer\, um den vielen Ansprüchen gerecht zu werden. Doch woher sollen die auf die Schnelle kommen? Das Kultusministerium in Stuttgart hat Anfang 2023 ein Sofortprogramm mit 18 Maßnahmen auf den Weg gebracht\, um die Unterrichtsversorgung zu sichern. Im kommenden Herbst sollen außerdem neue duale lehramtsbezogene Masterstudiengänge kommen. Reicht das alles\, oder sind es wieder nur Tropfen auf den heißen Stein? Um die Situation in den Lehrerzimmern geht es bei der kommenden Veranstaltung im Rahmen der Reihe „Bildung auf den Punkt“: „So steht es um die Unterrichtsversorgung: Wo sind all die Lehrer hin?“ heißt es am Donnerstag\, 14. Dezember\, ab 17 Uhr im Forum auf dem Bildungscampus Heilbronn. Mit dabei an diesem Tag sind unter anderem Staatssekretär Volker Schebesta aus dem Kultusministerium\, Micha Pallesche\, der die Ernst-Reuter-Gemeinschaftsschule in Karlsruhe leitet\, und Anne Sliwka vom Institut für Bildungswissenschaft der Ruprecht-Karls-Universität Heidelberg. \nHier geht’s zur Anmeldung.
URL:https://edusiia.com/veranstaltung/bildung-auf-den-punkt/
LOCATION:Bildungscampus Heilbronn Forum\, Bildungscampus 6\, Heilbronn\, Baden-Württemberg\, 74076\, Deutschland
CATEGORIES:Webinare
ATTACH;FMTTYPE=image/webp:https://edusiia.com/wp-content/uploads/2023/11/logo-stimme.webp
END:VEVENT
END:VCALENDAR