BEGIN:VCALENDAR
VERSION:2.0
PRODID:-//edusiia - ECPv6.15.15//NONSGML v1.0//EN
CALSCALE:GREGORIAN
METHOD:PUBLISH
X-WR-CALNAME:edusiia
X-ORIGINAL-URL:https://edusiia.com
X-WR-CALDESC:Veranstaltungen für edusiia
REFRESH-INTERVAL;VALUE=DURATION:PT1H
X-Robots-Tag:noindex
X-PUBLISHED-TTL:PT1H
BEGIN:VTIMEZONE
TZID:Europe/Berlin
BEGIN:DAYLIGHT
TZOFFSETFROM:+0100
TZOFFSETTO:+0200
TZNAME:CEST
DTSTART:20250330T010000
END:DAYLIGHT
BEGIN:STANDARD
TZOFFSETFROM:+0200
TZOFFSETTO:+0100
TZNAME:CET
DTSTART:20251026T010000
END:STANDARD
BEGIN:DAYLIGHT
TZOFFSETFROM:+0100
TZOFFSETTO:+0200
TZNAME:CEST
DTSTART:20260329T010000
END:DAYLIGHT
BEGIN:STANDARD
TZOFFSETFROM:+0200
TZOFFSETTO:+0100
TZNAME:CET
DTSTART:20261025T010000
END:STANDARD
BEGIN:DAYLIGHT
TZOFFSETFROM:+0100
TZOFFSETTO:+0200
TZNAME:CEST
DTSTART:20270328T010000
END:DAYLIGHT
BEGIN:STANDARD
TZOFFSETFROM:+0200
TZOFFSETTO:+0100
TZNAME:CET
DTSTART:20271031T010000
END:STANDARD
END:VTIMEZONE
BEGIN:VEVENT
DTSTART;TZID=Europe/Berlin:20260506T170000
DTEND;TZID=Europe/Berlin:20260506T210000
DTSTAMP:20260425T123610
CREATED:20260422T150511Z
LAST-MODIFIED:20260422T150511Z
UID:10001254-1778086800-1778101200@edusiia.com
SUMMARY:Startchancenprogramm: Chancen und Herausforderungen
DESCRIPTION:Keine Frage: Das „Startchancenprogramm“ (SCP) des Bundes und der Länder ist eine große Chance\, die Rahmenbedingungen in besonders herausfordernder Lage nachhaltig zu verbessern. Aktuell kämpfen viele Schulen jedoch noch mit überbordender Bürokratie\, vielen Unklarheiten bezüglich der konkreten Umsetzung des SCP und anderem mehr. \nDaher hat sich der Münchner Lehrer- und Lehrerinnenverband (MLLV) entschlossen\, das SCP zum Thema einer Veranstaltung zu machen\, die im Rahmen der Reihe „Bildung gerecht gestalten“ des BLLV stattfindet. Hier erhalten Sie fachliche Informationen aus erster Hand und können Ihre Anliegen direkt mit den Verantwortlichen aus allen Ebenen der Schulverwaltung diskutieren. Darüber hinaus haben Sie\, wie immer beim MLLV\, Gelegenheit zu Vernetzung und Austausch beim Büffet. \nIhre Teilnahme zugesagt haben bereits \n\nPhilipp Pacius (KM)\nDominik Fürhofer (ISB)\nBrigitte Stelli (ALP)\ndas Staatliche Schulamt\ndas Referat für Bildung und Sport der Landeshauptstadt München\n\nDie Veranstaltung wird am Mittwoch\, den 6. Mai 2026\, ab 17:00 Uhr in der BLLV-Geschäftsstelle am Bavariaring stattfinden. \nIhr Team vom MLLV: \n\nMartin Schmid\, 1. Vorsitzender\nIsabel Franz\, 2. Vorsitzende\nMeike Fuchs\, Leiterin der Abteilung Berufswissenschaft\nMartin Göb-Fuchsberger\, Leiter der Abteilung Schul- und Bildungspolitik
URL:https://edusiia.com/veranstaltung/startchancenprogramm-chancen-und-herausforderungen/
LOCATION:BLLV-Landesgeschäftsstelle\, Bavariaring 37\, München\, 80336\, Deutschland
CATEGORIES:Meet-Ups
END:VEVENT
END:VCALENDAR