BEGIN:VCALENDAR
VERSION:2.0
PRODID:-//edusiia - ECPv6.15.15//NONSGML v1.0//EN
CALSCALE:GREGORIAN
METHOD:PUBLISH
X-WR-CALNAME:edusiia
X-ORIGINAL-URL:https://edusiia.com
X-WR-CALDESC:Veranstaltungen für edusiia
REFRESH-INTERVAL;VALUE=DURATION:PT1H
X-Robots-Tag:noindex
X-PUBLISHED-TTL:PT1H
BEGIN:VTIMEZONE
TZID:Europe/Berlin
BEGIN:DAYLIGHT
TZOFFSETFROM:+0100
TZOFFSETTO:+0200
TZNAME:CEST
DTSTART:20230326T010000
END:DAYLIGHT
BEGIN:STANDARD
TZOFFSETFROM:+0200
TZOFFSETTO:+0100
TZNAME:CET
DTSTART:20231029T010000
END:STANDARD
BEGIN:DAYLIGHT
TZOFFSETFROM:+0100
TZOFFSETTO:+0200
TZNAME:CEST
DTSTART:20240331T010000
END:DAYLIGHT
BEGIN:STANDARD
TZOFFSETFROM:+0200
TZOFFSETTO:+0100
TZNAME:CET
DTSTART:20241027T010000
END:STANDARD
BEGIN:DAYLIGHT
TZOFFSETFROM:+0100
TZOFFSETTO:+0200
TZNAME:CEST
DTSTART:20250330T010000
END:DAYLIGHT
BEGIN:STANDARD
TZOFFSETFROM:+0200
TZOFFSETTO:+0100
TZNAME:CET
DTSTART:20251026T010000
END:STANDARD
END:VTIMEZONE
BEGIN:VEVENT
DTSTART;TZID=Europe/Berlin:20240514T173000
DTEND;TZID=Europe/Berlin:20240514T210000
DTSTAMP:20260421T150318
CREATED:20240422T085100Z
LAST-MODIFIED:20240422T085100Z
UID:10000758-1715707800-1715720400@edusiia.com
SUMMARY:treffpunkt.BILDUNG #4
DESCRIPTION:GEMEINSAM Lernen: Was kann ich in meinem Spielraum machen\, damit Bildung inklusiver wird? \nIn der kommenden Ausgabe von treffpunkt.BILDUNG wollen wir uns mit der Frage beschäftigen\, wie Bildungsprojekte inklusiver gestaltet werden können\, um sie ALLEN Kindern und Jugendlichen zugänglich zu machen. \nWie kann ich mein Bildungsangebot oder meinen Klassenraum inklusiver gestalten? Welche Rahmenbedingungen und Kompetenzen braucht es\, um unterschiedliche Bedürfnisse berücksichtigen zu können? Welche Herausforderungen gibt es? Wie können mögliche erste Schritte aussehen und was können wir von Best Practice Beispielen lernen? \nDiese und weitere Fragen wollen wir am 14. Mai 2024 gemeinsam mit Expert*innen und unseren Gästen diskutieren. \nIn dieser Ausgabe von treffpunkt.BILDUNG schaffen wir Raum für viel Austausch und individuelle Fragen aus dem Publikum. Wir laden Dich daher herzlich ein\, Deine Erfahrungen und Perspektiven einzubringen und gemeinsam mit uns zu lernen! \nSave the date für unseren Treffpunkt.BILDUNG #4: Gemeinsam Lernen!
URL:https://edusiia.com/veranstaltung/treffpunkt-bildung-4/
LOCATION:Impact Hub Vienna\, Lindengasse 56\, Wien\, 1070\, Österreich
CATEGORIES:Meet-Ups
ATTACH;FMTTYPE=image/jpeg:https://edusiia.com/wp-content/uploads/2024/04/treffpunkt.BILDUNG-No4.jpeg
END:VEVENT
END:VCALENDAR