BEGIN:VCALENDAR
VERSION:2.0
PRODID:-//edusiia - ECPv6.15.15//NONSGML v1.0//EN
CALSCALE:GREGORIAN
METHOD:PUBLISH
X-WR-CALNAME:edusiia
X-ORIGINAL-URL:https://edusiia.com
X-WR-CALDESC:Veranstaltungen für edusiia
REFRESH-INTERVAL;VALUE=DURATION:PT1H
X-Robots-Tag:noindex
X-PUBLISHED-TTL:PT1H
BEGIN:VTIMEZONE
TZID:Europe/Berlin
BEGIN:DAYLIGHT
TZOFFSETFROM:+0100
TZOFFSETTO:+0200
TZNAME:CEST
DTSTART:20240331T010000
END:DAYLIGHT
BEGIN:STANDARD
TZOFFSETFROM:+0200
TZOFFSETTO:+0100
TZNAME:CET
DTSTART:20241027T010000
END:STANDARD
BEGIN:DAYLIGHT
TZOFFSETFROM:+0100
TZOFFSETTO:+0200
TZNAME:CEST
DTSTART:20250330T010000
END:DAYLIGHT
BEGIN:STANDARD
TZOFFSETFROM:+0200
TZOFFSETTO:+0100
TZNAME:CET
DTSTART:20251026T010000
END:STANDARD
BEGIN:DAYLIGHT
TZOFFSETFROM:+0100
TZOFFSETTO:+0200
TZNAME:CEST
DTSTART:20260329T010000
END:DAYLIGHT
BEGIN:STANDARD
TZOFFSETFROM:+0200
TZOFFSETTO:+0100
TZNAME:CET
DTSTART:20261025T010000
END:STANDARD
END:VTIMEZONE
BEGIN:VEVENT
DTSTART;TZID=Europe/Berlin:20251030T160000
DTEND;TZID=Europe/Berlin:20251030T190000
DTSTAMP:20260423T112036
CREATED:20251027T140816Z
LAST-MODIFIED:20251027T140816Z
UID:10001060-1761840000-1761850800@edusiia.com
SUMMARY:Bildung vernetzt! Networking Event 2025
DESCRIPTION:Gemeinsam mit ipcenter\, dieBerater\, Zentrum für soziale Innovation (ZSI)\, bit Schulungscenter undibis acam Bildungs GmbH läd die Europäische Bildungsarbeit der ÖJAB zur gemeinsamen Netzwerkveranstaltung der Berufsbildungsträger in Wien. \nDiese Veranstaltung richtet sich an Trainer:innen\, Sozialarbeiter:innen\, Jugendarbeiter:innen\, Bildungspersonal\, Stakeholder im Bildungsbereich sowie alle\, die sich für Bildungsinitiativen interessieren. \nDie Teilnahme ist kostenfrei. Um Online-Anmeldung wird gebeten.
URL:https://edusiia.com/veranstaltung/bildung-vernetzt-networking-event-2025/
LOCATION:ipcenter Wien\, Schönbrunner Str. 218–220\, Wien\, Österreich
CATEGORIES:Meet-Ups
ATTACH;FMTTYPE=image/jpeg:https://edusiia.com/wp-content/uploads/2025/10/Bildung-Vernetzt-Networking-Event-2025.jpg
END:VEVENT
END:VCALENDAR